Package: MSstats Version: 4.12.0 Command: /home/biocbuild/R/R-beta-2024-04-15_r86425/bin/R CMD build --keep-empty-dirs --no-resave-data MSstats StartedAt: 2024-05-09 01:58:29 -0000 (Thu, 09 May 2024) EndedAt: 2024-05-09 01:59:57 -0000 (Thu, 09 May 2024) EllapsedTime: 88.1 seconds RetCode: 0 Status: OK PackageFile: MSstats_4.12.0.tar.gz PackageFileSize: 197.1 KiB