Package: MSstats Version: 4.12.0 Command: /Library/Frameworks/R.framework/Resources/bin/R CMD INSTALL MSstats StartedAt: 2024-06-09 16:51:51 -0400 (Sun, 09 Jun 2024) EndedAt: 2024-06-09 16:52:53 -0400 (Sun, 09 Jun 2024) EllapsedTime: 61.5 seconds RetCode: 0 Status: OK