Package: MSstats Version: 4.12.0 Command: /Library/Frameworks/R.framework/Resources/bin/R CMD build --keep-empty-dirs --no-resave-data MSstats StartedAt: 2024-06-10 01:18:45 -0400 (Mon, 10 Jun 2024) EndedAt: 2024-06-10 01:19:58 -0400 (Mon, 10 Jun 2024) EllapsedTime: 72.4 seconds RetCode: 0 Status: OK PackageFile: MSstats_4.12.0.tar.gz PackageFileSize: 197.2 KiB