Package: MSstats Version: 4.12.1 Command: /Library/Frameworks/R.framework/Resources/bin/R CMD INSTALL MSstats StartedAt: 2024-10-16 17:52:57 -0400 (Wed, 16 Oct 2024) EndedAt: 2024-10-16 17:53:38 -0400 (Wed, 16 Oct 2024) EllapsedTime: 41.5 seconds RetCode: 0 Status: OK