Package: MSstats Version: 4.12.1 Command: /Library/Frameworks/R.framework/Resources/bin/R CMD check --install=check:MSstats.install-out.txt --library=/Library/Frameworks/R.framework/Resources/library --no-vignettes --timings MSstats_4.12.1.tar.gz StartedAt: 2024-10-18 05:16:59 -0400 (Fri, 18 Oct 2024) EndedAt: 2024-10-18 05:19:26 -0400 (Fri, 18 Oct 2024) EllapsedTime: 147.0 seconds RetCode: 0 Status: WARNINGS CheckDir: MSstats.Rcheck Warnings: 2