Package: MSnbase Version: 2.30.1 Command: E:\biocbuild\bbs-3.19-bioc\R\bin\R.exe CMD check --no-multiarch --install=check:MSnbase.install-out.txt --library=E:\biocbuild\bbs-3.19-bioc\R\library --no-vignettes --timings MSnbase_2.30.1.tar.gz StartedAt: 2024-10-17 03:41:29 -0400 (Thu, 17 Oct 2024) EndedAt: 2024-10-17 04:11:16 -0400 (Thu, 17 Oct 2024) EllapsedTime: 1787.1 seconds RetCode: 0 Status: OK CheckDir: MSnbase.Rcheck Warnings: 0