Package: MSnbase Version: 2.30.1 Command: rm -rf MSnbase.buildbin-libdir && mkdir MSnbase.buildbin-libdir && E:\biocbuild\bbs-3.19-bioc\R\bin\R.exe CMD INSTALL --build --library=MSnbase.buildbin-libdir MSnbase_2.30.1.tar.gz StartedAt: 2024-10-17 08:12:16 -0400 (Thu, 17 Oct 2024) EndedAt: 2024-10-17 08:15:43 -0400 (Thu, 17 Oct 2024) EllapsedTime: 206.6 seconds RetCode: 0 Status: OK PackageFile: MSnbase_2.30.1.zip PackageFileSize: 7.091 MiB