Package: MSnbase Version: 2.30.1 Command: F:\biocbuild\bbs-3.19-bioc\R\bin\R.exe CMD INSTALL MSnbase StartedAt: 2024-06-26 16:22:55 -0400 (Wed, 26 Jun 2024) EndedAt: 2024-06-26 16:25:01 -0400 (Wed, 26 Jun 2024) EllapsedTime: 125.6 seconds RetCode: 0 Status: OK