Package: MSnbase Version: 2.30.1 Command: rm -rf MSnbase.buildbin-libdir && mkdir MSnbase.buildbin-libdir && F:\biocbuild\bbs-3.19-bioc\R\bin\R.exe CMD INSTALL --build --library=MSnbase.buildbin-libdir MSnbase_2.30.1.tar.gz StartedAt: 2024-06-27 08:33:22 -0400 (Thu, 27 Jun 2024) EndedAt: 2024-06-27 08:35:32 -0400 (Thu, 27 Jun 2024) EllapsedTime: 130.5 seconds RetCode: 0 Status: OK PackageFile: MSnbase_2.30.1.zip PackageFileSize: 7.091 MiB