Package: MSnbase Version: 2.30.1 Command: /home/biocbuild/R/R-beta-2024-04-15_r86425/bin/R CMD INSTALL MSnbase StartedAt: 2024-05-08 20:40:09 -0000 (Wed, 08 May 2024) EndedAt: 2024-05-08 20:41:54 -0000 (Wed, 08 May 2024) EllapsedTime: 104.5 seconds RetCode: 0 Status: OK