Package: MSnbase Version: 2.30.1 Command: /home/biocbuild/R/R-beta-2024-04-15_r86425/bin/R CMD check --install=check:MSnbase.install-out.txt --library=/home/biocbuild/R/R-beta-2024-04-15_r86425/site-library --no-vignettes --timings MSnbase_2.30.1.tar.gz StartedAt: 2024-05-09 09:48:17 -0000 (Thu, 09 May 2024) EndedAt: 2024-05-09 10:08:06 -0000 (Thu, 09 May 2024) EllapsedTime: 1189.3 seconds RetCode: 1 Status: ERROR CheckDir: MSnbase.Rcheck Warnings: NA