Package: MSnbase Version: 2.30.1 Command: /Library/Frameworks/R.framework/Resources/bin/R CMD check --install=check:MSnbase.install-out.txt --library=/Library/Frameworks/R.framework/Resources/library --no-vignettes --timings MSnbase_2.30.1.tar.gz StartedAt: 2024-10-18 05:09:07 -0400 (Fri, 18 Oct 2024) EndedAt: 2024-10-18 05:28:20 -0400 (Fri, 18 Oct 2024) EllapsedTime: 1153.4 seconds RetCode: 0 Status: OK CheckDir: MSnbase.Rcheck Warnings: 0