Package: MSnID Version: 1.38.0 Command: chmod a+r MSnID -R && E:\biocbuild\bbs-3.19-bioc\R\bin\R.exe CMD build --keep-empty-dirs --no-resave-data MSnID StartedAt: 2024-10-16 20:32:04 -0400 (Wed, 16 Oct 2024) EndedAt: 2024-10-16 20:34:45 -0400 (Wed, 16 Oct 2024) EllapsedTime: 160.8 seconds RetCode: 0 Status: OK PackageFile: MSnID_1.38.0.tar.gz PackageFileSize: 2.981 MiB