Package: MSnID Version: 1.38.0 Command: F:\biocbuild\bbs-3.19-bioc\R\bin\R.exe CMD check --no-multiarch --install=check:MSnID.install-out.txt --library=F:\biocbuild\bbs-3.19-bioc\R\library --no-vignettes --timings MSnID_1.38.0.tar.gz StartedAt: 2024-06-27 03:57:09 -0400 (Thu, 27 Jun 2024) EndedAt: 2024-06-27 04:05:38 -0400 (Thu, 27 Jun 2024) EllapsedTime: 508.4 seconds RetCode: 0 Status: OK CheckDir: MSnID.Rcheck Warnings: 0