Package: MSnID Version: 1.38.0 Command: rm -rf MSnID.buildbin-libdir && mkdir MSnID.buildbin-libdir && /Users/biocbuild/BBS/utils/build-universal.sh MSnID_1.38.0.tar.gz /Library/Frameworks/R.framework/Resources/bin/R MSnID.buildbin-libdir StartedAt: 2024-10-17 16:40:34 -0400 (Thu, 17 Oct 2024) EndedAt: 2024-10-17 16:42:21 -0400 (Thu, 17 Oct 2024) EllapsedTime: 106.9 seconds RetCode: 0 Status: OK PackageFile: MSnID_1.38.0.tgz PackageFileSize: 4.115 MiB