Package: MSnID Version: 1.38.0 Command: /Library/Frameworks/R.framework/Resources/bin/R CMD check --install=check:MSnID.install-out.txt --library=/Library/Frameworks/R.framework/Resources/library --no-vignettes --timings MSnID_1.38.0.tar.gz StartedAt: 2024-10-18 05:09:19 -0400 (Fri, 18 Oct 2024) EndedAt: 2024-10-18 05:17:53 -0400 (Fri, 18 Oct 2024) EllapsedTime: 514.2 seconds RetCode: 1 Status: ERROR CheckDir: MSnID.Rcheck Warnings: NA