Package: MSPrep Version: 1.14.0 Command: chmod a+r MSPrep -R && E:\biocbuild\bbs-3.19-bioc\R\bin\R.exe CMD build --keep-empty-dirs --no-resave-data MSPrep StartedAt: 2024-10-16 20:32:21 -0400 (Wed, 16 Oct 2024) EndedAt: 2024-10-16 20:34:57 -0400 (Wed, 16 Oct 2024) EllapsedTime: 155.9 seconds RetCode: 0 Status: OK PackageFile: MSPrep_1.14.0.tar.gz PackageFileSize: 1.574 MiB