Package: MSPrep Version: 1.14.0 Command: rm -rf MSPrep.buildbin-libdir && mkdir MSPrep.buildbin-libdir && E:\biocbuild\bbs-3.19-bioc\R\bin\R.exe CMD INSTALL --build --library=MSPrep.buildbin-libdir MSPrep_1.14.0.tar.gz StartedAt: 2024-10-17 08:12:25 -0400 (Thu, 17 Oct 2024) EndedAt: 2024-10-17 08:13:14 -0400 (Thu, 17 Oct 2024) EllapsedTime: 49.6 seconds RetCode: 0 Status: OK PackageFile: MSPrep_1.14.0.zip PackageFileSize: 1.64 MiB