Package: MSPrep Version: 1.14.0 Command: /Library/Frameworks/R.framework/Resources/bin/R CMD check --install=check:MSPrep.install-out.txt --library=/Library/Frameworks/R.framework/Resources/library --no-vignettes --timings MSPrep_1.14.0.tar.gz StartedAt: 2024-06-09 21:44:37 -0400 (Sun, 09 Jun 2024) EndedAt: 2024-06-09 21:52:33 -0400 (Sun, 09 Jun 2024) EllapsedTime: 476.3 seconds RetCode: 0 Status: OK CheckDir: MSPrep.Rcheck Warnings: 0