Package: MSPrep Version: 1.14.0 Command: /home/biocbuild/R/R-beta-2024-04-15_r86425/bin/R CMD build --keep-empty-dirs --no-resave-data MSPrep StartedAt: 2024-05-09 01:57:56 -0000 (Thu, 09 May 2024) EndedAt: 2024-05-09 02:01:20 -0000 (Thu, 09 May 2024) EllapsedTime: 204.3 seconds RetCode: 0 Status: OK PackageFile: MSPrep_1.14.0.tar.gz PackageFileSize: 1.64 MiB