Package: MSPrep Version: 1.14.0 Command: /Library/Frameworks/R.framework/Resources/bin/R CMD INSTALL MSPrep StartedAt: 2024-10-16 18:39:59 -0400 (Wed, 16 Oct 2024) EndedAt: 2024-10-16 18:40:37 -0400 (Wed, 16 Oct 2024) EllapsedTime: 38.4 seconds RetCode: 0 Status: OK