Package: MSPrep Version: 1.14.0 Command: /Library/Frameworks/R.framework/Resources/bin/R CMD check --install=check:MSPrep.install-out.txt --library=/Library/Frameworks/R.framework/Resources/library --no-vignettes --timings MSPrep_1.14.0.tar.gz StartedAt: 2024-10-18 05:10:45 -0400 (Fri, 18 Oct 2024) EndedAt: 2024-10-18 05:20:07 -0400 (Fri, 18 Oct 2024) EllapsedTime: 562.5 seconds RetCode: 1 Status: ERROR CheckDir: MSPrep.Rcheck Warnings: NA