Package: MSPrep Version: 1.14.0 Command: /Library/Frameworks/R.framework/Resources/bin/R CMD build --keep-empty-dirs --no-resave-data MSPrep StartedAt: 2024-10-17 05:13:06 -0400 (Thu, 17 Oct 2024) EndedAt: 2024-10-17 05:16:09 -0400 (Thu, 17 Oct 2024) EllapsedTime: 183.3 seconds RetCode: 0 Status: OK PackageFile: MSPrep_1.14.0.tar.gz PackageFileSize: 1.573 MiB