Package: MSA2dist Version: 1.8.0 Command: E:\biocbuild\bbs-3.19-bioc\R\bin\R.exe CMD INSTALL MSA2dist StartedAt: 2024-10-16 16:35:09 -0400 (Wed, 16 Oct 2024) EndedAt: 2024-10-16 16:36:34 -0400 (Wed, 16 Oct 2024) EllapsedTime: 85.3 seconds RetCode: 0 Status: OK