Package: MSA2dist Version: 1.8.0 Command: E:\biocbuild\bbs-3.19-bioc\R\bin\R.exe CMD check --no-multiarch --install=check:MSA2dist.install-out.txt --library=E:\biocbuild\bbs-3.19-bioc\R\library --no-vignettes --timings MSA2dist_1.8.0.tar.gz StartedAt: 2024-10-17 03:38:02 -0400 (Thu, 17 Oct 2024) EndedAt: 2024-10-17 03:47:43 -0400 (Thu, 17 Oct 2024) EllapsedTime: 580.8 seconds RetCode: 0 Status: OK CheckDir: MSA2dist.Rcheck Warnings: 0