Package: MSA2dist Version: 1.8.0 Command: F:\biocbuild\bbs-3.19-bioc\R\bin\R.exe CMD INSTALL MSA2dist StartedAt: 2024-06-26 15:57:42 -0400 (Wed, 26 Jun 2024) EndedAt: 2024-06-26 15:59:49 -0400 (Wed, 26 Jun 2024) EllapsedTime: 127.0 seconds RetCode: 0 Status: OK