Package: MSA2dist Version: 1.8.0 Command: /home/biocbuild/bbs-3.19-bioc/R/bin/R CMD INSTALL MSA2dist StartedAt: 2024-10-16 16:11:50 -0400 (Wed, 16 Oct 2024) EndedAt: 2024-10-16 16:13:10 -0400 (Wed, 16 Oct 2024) EllapsedTime: 79.4 seconds RetCode: 0 Status: OK