Package: MSA2dist Version: 1.8.0 Command: /home/biocbuild/bbs-3.19-bioc/R/bin/R CMD check --install=check:MSA2dist.install-out.txt --library=/home/biocbuild/bbs-3.19-bioc/R/site-library --timings MSA2dist_1.8.0.tar.gz StartedAt: 2024-10-17 02:45:47 -0400 (Thu, 17 Oct 2024) EndedAt: 2024-10-17 02:49:44 -0400 (Thu, 17 Oct 2024) EllapsedTime: 237.5 seconds RetCode: 0 Status: OK CheckDir: MSA2dist.Rcheck Warnings: 0