Package: MSA2dist Version: 1.8.0 Command: /home/biocbuild/bbs-3.19-bioc/R/bin/R CMD build --keep-empty-dirs --no-resave-data MSA2dist StartedAt: 2024-10-16 19:38:30 -0400 (Wed, 16 Oct 2024) EndedAt: 2024-10-16 19:40:13 -0400 (Wed, 16 Oct 2024) EllapsedTime: 103.2 seconds RetCode: 0 Status: OK PackageFile: MSA2dist_1.8.0.tar.gz PackageFileSize: 843.7 KiB