Package: MSA2dist Version: 1.8.0 Command: /Library/Frameworks/R.framework/Resources/bin/R CMD build --keep-empty-dirs --no-resave-data MSA2dist StartedAt: 2024-10-16 21:17:12 -0400 (Wed, 16 Oct 2024) EndedAt: 2024-10-16 21:21:13 -0400 (Wed, 16 Oct 2024) EllapsedTime: 241.1 seconds RetCode: 0 Status: OK PackageFile: MSA2dist_1.8.0.tar.gz PackageFileSize: 877.8 KiB