Package: MSA2dist Version: 1.8.0 Command: rm -rf MSA2dist.buildbin-libdir && mkdir MSA2dist.buildbin-libdir && /Users/biocbuild/BBS/utils/build-universal.sh MSA2dist_1.8.0.tar.gz /Library/Frameworks/R.framework/Resources/bin/R MSA2dist.buildbin-libdir StartedAt: 2024-10-17 16:39:27 -0400 (Thu, 17 Oct 2024) EndedAt: 2024-10-17 16:42:06 -0400 (Thu, 17 Oct 2024) EllapsedTime: 159.2 seconds RetCode: 0 Status: OK PackageFile: MSA2dist_1.8.0.tgz PackageFileSize: 1.155 MiB