Package: MSA2dist Version: 1.8.0 Command: rm -rf MSA2dist.buildbin-libdir && mkdir MSA2dist.buildbin-libdir && /Users/biocbuild/BBS/utils/build-universal.sh MSA2dist_1.8.0.tar.gz /Library/Frameworks/R.framework/Resources/bin/R MSA2dist.buildbin-libdir StartedAt: 2024-06-10 00:28:23 -0400 (Mon, 10 Jun 2024) EndedAt: 2024-06-10 00:30:04 -0400 (Mon, 10 Jun 2024) EllapsedTime: 100.9 seconds RetCode: 0 Status: OK PackageFile: MSA2dist_1.8.0.tgz PackageFileSize: 1.153 MiB