Package: MQmetrics Version: 1.12.0 Command: chmod a+r MQmetrics -R && E:\biocbuild\bbs-3.19-bioc\R\bin\R.exe CMD build --keep-empty-dirs --no-resave-data MQmetrics StartedAt: 2024-10-16 20:29:51 -0400 (Wed, 16 Oct 2024) EndedAt: 2024-10-16 20:30:12 -0400 (Wed, 16 Oct 2024) EllapsedTime: 20.9 seconds RetCode: 1 Status: ERROR PackageFile: None PackageFileSize: NA