Package: MQmetrics Version: 1.12.0 Command: /home/biocbuild/bbs-3.19-bioc/R/bin/R CMD build --keep-empty-dirs --no-resave-data MQmetrics StartedAt: 2024-10-16 19:38:18 -0400 (Wed, 16 Oct 2024) EndedAt: 2024-10-16 19:38:30 -0400 (Wed, 16 Oct 2024) EllapsedTime: 12.0 seconds RetCode: 1 Status: ERROR PackageFile: None PackageFileSize: NA