Package: MQmetrics Version: 1.11.0 Command: /Library/Frameworks/R.framework/Resources/bin/R CMD check --install=check:MQmetrics.install-out.txt --library=/Library/Frameworks/R.framework/Resources/library --no-vignettes --timings MQmetrics_1.11.0.tar.gz StartedAt: 2024-02-17 07:05:33 -0500 (Sat, 17 Feb 2024) EndedAt: 2024-02-17 07:09:49 -0500 (Sat, 17 Feb 2024) EllapsedTime: 255.7 seconds RetCode: 0 Status: OK CheckDir: MQmetrics.Rcheck Warnings: 0