Package: MQmetrics Version: 1.12.0 Command: /Library/Frameworks/R.framework/Resources/bin/R CMD build --keep-empty-dirs --no-resave-data MQmetrics StartedAt: 2024-10-16 21:16:36 -0400 (Wed, 16 Oct 2024) EndedAt: 2024-10-16 21:17:12 -0400 (Wed, 16 Oct 2024) EllapsedTime: 36.7 seconds RetCode: 1 Status: ERROR PackageFile: None PackageFileSize: NA