Package: MQmetrics Version: 1.11.0 Command: rm -rf MQmetrics.buildbin-libdir && mkdir MQmetrics.buildbin-libdir && /Users/biocbuild/BBS/utils/build-universal.sh MQmetrics_1.11.0.tar.gz /Library/Frameworks/R.framework/Resources/bin/R MQmetrics.buildbin-libdir StartedAt: 2024-02-17 13:55:19 -0500 (Sat, 17 Feb 2024) EndedAt: 2024-02-17 13:55:42 -0500 (Sat, 17 Feb 2024) EllapsedTime: 23.4 seconds RetCode: 0 Status: OK PackageFile: MQmetrics_1.11.0.tgz PackageFileSize: 5.466 MiB