Package: MQmetrics Version: 1.12.0 Command: /Library/Frameworks/R.framework/Resources/bin/R CMD build --keep-empty-dirs --no-resave-data MQmetrics StartedAt: 2024-06-10 01:10:05 -0400 (Mon, 10 Jun 2024) EndedAt: 2024-06-10 01:10:24 -0400 (Mon, 10 Jun 2024) EllapsedTime: 19.7 seconds RetCode: 1 Status: ERROR PackageFile: None PackageFileSize: NA