Package: MPRAnalyze Version: 1.22.0 Command: rm -rf MPRAnalyze.buildbin-libdir && mkdir MPRAnalyze.buildbin-libdir && E:\biocbuild\bbs-3.19-bioc\R\bin\R.exe CMD INSTALL --build --library=MPRAnalyze.buildbin-libdir MPRAnalyze_1.22.0.tar.gz StartedAt: 2024-10-17 08:11:27 -0400 (Thu, 17 Oct 2024) EndedAt: 2024-10-17 08:12:11 -0400 (Thu, 17 Oct 2024) EllapsedTime: 44.6 seconds RetCode: 0 Status: OK PackageFile: MPRAnalyze_1.22.0.zip PackageFileSize: 568.9 KiB