Package: MPRAnalyze Version: 1.22.0 Command: chmod a+r MPRAnalyze -R && F:\biocbuild\bbs-3.19-bioc\R\bin\R.exe CMD build --keep-empty-dirs --no-resave-data MPRAnalyze StartedAt: 2024-06-26 20:16:02 -0400 (Wed, 26 Jun 2024) EndedAt: 2024-06-26 20:17:21 -0400 (Wed, 26 Jun 2024) EllapsedTime: 78.4 seconds RetCode: 0 Status: OK PackageFile: MPRAnalyze_1.22.0.tar.gz PackageFileSize: 336.1 KiB