Package: MPRAnalyze Version: 1.22.0 Command: rm -rf MPRAnalyze.buildbin-libdir && mkdir MPRAnalyze.buildbin-libdir && F:\biocbuild\bbs-3.19-bioc\R\bin\R.exe CMD INSTALL --build --library=MPRAnalyze.buildbin-libdir MPRAnalyze_1.22.0.tar.gz StartedAt: 2024-06-27 08:32:45 -0400 (Thu, 27 Jun 2024) EndedAt: 2024-06-27 08:33:28 -0400 (Thu, 27 Jun 2024) EllapsedTime: 42.7 seconds RetCode: 0 Status: OK PackageFile: MPRAnalyze_1.22.0.zip PackageFileSize: 568.9 KiB