Package: MPRAnalyze Version: 1.22.0 Command: /Library/Frameworks/R.framework/Resources/bin/R CMD build --keep-empty-dirs --no-resave-data MPRAnalyze StartedAt: 2024-10-16 21:16:25 -0400 (Wed, 16 Oct 2024) EndedAt: 2024-10-16 21:20:29 -0400 (Wed, 16 Oct 2024) EllapsedTime: 244.5 seconds RetCode: 0 Status: OK PackageFile: MPRAnalyze_1.22.0.tar.gz PackageFileSize: 402.4 KiB