Package: MPRAnalyze Version: 1.22.0 Command: /Library/Frameworks/R.framework/Resources/bin/R CMD check --install=check:MPRAnalyze.install-out.txt --library=/Library/Frameworks/R.framework/Resources/library --no-vignettes --timings MPRAnalyze_1.22.0.tar.gz StartedAt: 2024-06-09 21:42:01 -0400 (Sun, 09 Jun 2024) EndedAt: 2024-06-09 21:45:11 -0400 (Sun, 09 Jun 2024) EllapsedTime: 190.1 seconds RetCode: 0 Status: OK CheckDir: MPRAnalyze.Rcheck Warnings: 0