Package: MPRAnalyze Version: 1.22.0 Command: rm -rf MPRAnalyze.buildbin-libdir && mkdir MPRAnalyze.buildbin-libdir && /Users/biocbuild/BBS/utils/build-universal.sh MPRAnalyze_1.22.0.tar.gz /Library/Frameworks/R.framework/Resources/bin/R MPRAnalyze.buildbin-libdir StartedAt: 2024-06-10 00:28:21 -0400 (Mon, 10 Jun 2024) EndedAt: 2024-06-10 00:28:53 -0400 (Mon, 10 Jun 2024) EllapsedTime: 32.8 seconds RetCode: 0 Status: OK PackageFile: MPRAnalyze_1.22.0.tgz PackageFileSize: 637.1 KiB