Package: MPRAnalyze Version: 1.22.0 Maintainer: Tal Ashuach MaintainerEmail: tal_ashuach at berkeley.edu git_url: https://git.bioconductor.org/packages/MPRAnalyze git_branch: RELEASE_3_19 git_last_commit: 12abab2 git_last_commit_date: 2024-04-30 11:09:47 -0400 (Tue, 30 Apr 2024)