Package: MOSim Version: 2.0.0 Command: E:\biocbuild\bbs-3.19-bioc\R\bin\R.exe CMD check --no-multiarch --install=check:MOSim.install-out.txt --library=E:\biocbuild\bbs-3.19-bioc\R\library --no-vignettes --timings MOSim_2.0.0.tar.gz StartedAt: 2024-10-17 03:34:50 -0400 (Thu, 17 Oct 2024) EndedAt: 2024-10-17 03:50:43 -0400 (Thu, 17 Oct 2024) EllapsedTime: 952.7 seconds RetCode: 0 Status: WARNINGS CheckDir: MOSim.Rcheck Warnings: 1