Package: MOSim Version: 2.0.0 Command: /home/biocbuild/bbs-3.19-bioc/R/bin/R CMD INSTALL MOSim StartedAt: 2024-10-16 16:39:24 -0400 (Wed, 16 Oct 2024) EndedAt: 2024-10-16 16:40:05 -0400 (Wed, 16 Oct 2024) EllapsedTime: 40.6 seconds RetCode: 0 Status: OK