Package: MOSim Version: 2.0.0 Command: /home/biocbuild/bbs-3.19-bioc/R/bin/R CMD check --install=check:MOSim.install-out.txt --library=/home/biocbuild/bbs-3.19-bioc/R/site-library --timings MOSim_2.0.0.tar.gz StartedAt: 2024-10-17 02:42:14 -0400 (Thu, 17 Oct 2024) EndedAt: 2024-10-17 02:58:46 -0400 (Thu, 17 Oct 2024) EllapsedTime: 992.1 seconds RetCode: 0 Status: WARNINGS CheckDir: MOSim.Rcheck Warnings: 2