Package: MOSim Version: 2.0.0 Command: /home/biocbuild/bbs-3.19-bioc/R/bin/R CMD build --keep-empty-dirs --no-resave-data MOSim StartedAt: 2024-10-16 19:36:18 -0400 (Wed, 16 Oct 2024) EndedAt: 2024-10-16 19:42:19 -0400 (Wed, 16 Oct 2024) EllapsedTime: 360.6 seconds RetCode: 0 Status: OK PackageFile: MOSim_2.0.0.tar.gz PackageFileSize: 6.133 MiB