Package: MOSim Version: 2.0.0 Command: /Library/Frameworks/R.framework/Resources/bin/R CMD build --keep-empty-dirs --no-resave-data MOSim StartedAt: 2024-10-16 21:11:58 -0400 (Wed, 16 Oct 2024) EndedAt: 2024-10-16 21:34:26 -0400 (Wed, 16 Oct 2024) EllapsedTime: 1347.2 seconds RetCode: 0 Status: OK PackageFile: MOSim_2.0.0.tar.gz PackageFileSize: 6.133 MiB